BEGIN:VCALENDAR
VERSION:2.0
PRODID:-//ChamberMaster//Event Calendar 2.0//EN
METHOD:PUBLISH
X-PUBLISHED-TTL:P3D
REFRESH-INTERVAL:P3D
CALSCALE:GREGORIAN
BEGIN:VEVENT
DTSTART:20250913T170000Z
DTEND:20250913T190000Z
X-MICROSOFT-CDO-ALLDAYEVENT:FALSE
SUMMARY:Awaken Thyself
DESCRIPTION:Feeling called to a deeper spiritual path?\n\nThis class offers a powerful introduction to the ancient Mystery School tradition of King Salomon's Lineage\, preserved for over 3\,500 years.\n\n\n	\n	Discover the profound significance of this path of initiation and the many blessings it brings to support your personal growth and awakening.\n	\n	\n	Learn two foundational rituals for protection and for invoking divine energies to assist you on your journey.\n	\n	\n	Engage in a guided meditation designed to reveal deeper truths within yourself\, and take part in a sacred ceremonial rite to anchor your experience in a Ritual of Light.
X-ALT-DESC;FMTTYPE=text/html:<p><strong>Feeling called to a deeper spiritual path?</strong><br />\nThis class offers a powerful introduction to the ancient Mystery School tradition of King Salomon&rsquo\;s Lineage\, preserved for over 3\,500 years.</p>\n\n<ul>\n	<li>\n	<p><strong>Discover the profound significance of this path of initiation</strong> and the many blessings it brings to support your personal growth and awakening.</p>\n	</li>\n	<li>\n	<p><strong>Learn two foundational rituals</strong> for protection and for invoking divine energies to assist you on your journey.</p>\n	</li>\n	<li>\n	<p><strong>Engage in a guided meditation</strong> designed to reveal deeper truths within yourself\, and take part in a sacred ceremonial rite to anchor your experience in a Ritual of Light.</p>\n	</li>\n</ul>\n
LOCATION:4340 Redwood Hwy\, F221\, San Rafael\, CA
UID:e.1344.40685
SEQUENCE:3
DTSTAMP:20260424T193107Z
URL:http://srchamber.chambermaster.com/events/details/awaken-thyself-40685
END:VEVENT

END:VCALENDAR
