BEGIN:VCALENDAR
VERSION:2.0
PRODID:-//ChamberMaster//Event Calendar 2.0//EN
METHOD:PUBLISH
X-PUBLISHED-TTL:P3D
REFRESH-INTERVAL:P3D
CALSCALE:GREGORIAN
BEGIN:VEVENT
DTSTART:20250721T230000Z
DTEND:20250722T000000Z
X-MICROSOFT-CDO-ALLDAYEVENT:FALSE
SUMMARY:Max Meditation
DESCRIPTION:Come join us for a rejuvenating meditation experience in San Rafael. This meditation is designed to help you relax\, unwind\, and find inner peace. Whether you're a seasoned meditator or a beginner\, everyone is welcome to join on Mondays for a calming and centering practice.\n\nMax Meditation is a fusion of ancient techniques of yoga and mind acrobatics and the modern techniques of Psychology and Neuro-linguistic programming (NLP). It is a complete system of meditation that includes relaxation\, passive meditation\, active meditation\, visualization and soothing down.\n\nThis guided meditations will help you release stress\, increase focus\, and promote overall well-being. Take this opportunity to connect with yourself and others in a supportive and peaceful environment.\n\nNo experience necessary - just bring an open mind and a willingness to relax!\n\n\n\nwww.lightwithinyou.net
X-ALT-DESC;FMTTYPE=text/html:<p>Come join us for a rejuvenating meditation experience in San Rafael. This meditation is designed to help you relax\, unwind\, and find inner peace. Whether you&#39\;re a seasoned meditator or a beginner\, everyone is welcome to join on Mondays for a calming and centering practice.</p>\n\n<p>Max Meditation is a fusion of ancient techniques of yoga and mind acrobatics and the modern techniques of Psychology and Neuro-linguistic programming (NLP). It is a complete system of meditation that includes relaxation\, passive meditation\, active meditation\, visualization and soothing down.</p>\n\n<p>This guided meditations will help you release stress\, increase focus\, and promote overall well-being. Take this opportunity to connect with yourself and others in a supportive and peaceful environment.</p>\n\n<p><strong>No experience necessary - just bring an open mind and a willingness to relax!<br />\n<br />\nwww.lightwithinyou.net</strong><br />\n&nbsp\;</p>\n
LOCATION:4340 Redwood Hwy F221\, San Rafael\, CA 94903
UID:e.1344.40317
SEQUENCE:3
DTSTAMP:20260425T164254Z
URL:http://srchamber.chambermaster.com/events/details/max-meditation-40317
END:VEVENT

END:VCALENDAR
